Workbook
Name OLE_LINK1: NOTAS!$B$84

Sheet EA
C3: ESTADO DE ACTIVIDADES
C4: Del 01 de Enero al 30 de Septiembre del 2017 y 2016
C5: (Pesos)
E7: Ente Público: | F7: INSTITUTO TECNOLOGICO SUPERIOR DE SALVATIERRA
B10: Concepto | D10: 2017 | E10: 2016 | G10: Concepto | I10: 2017 | J10: 2016
B12: INGRESOS Y OTROS BENEFICIOS | G12: GASTOS Y OTRAS PÉRDIDAS
B13: Ingresos de la Gestión | D13: =SUM(D14:D21) -> 1380697.5 | E13: =SUM(E14:E21) -> 612722.59 | G13: Gastos de Funcionamiento | I13: =SUM(I14:I16) -> 19608006 | J13: =SUM(J14:J16) -> 28673164
B14: Impuestos | D14: 0 | E14: 0 | G14: Servicios Personales | I14: 16121775 | J14: 22945913
B15: Cuotas y Aportaciones de Seguridad Social | D15: 0 | E15: 0 | G15: Materiales y Suministros | I15: 496805.38 | J15: 1397750.8
B16: Contribuciones de Mejoras | D16: 0 | E16: 0 | G16: Servicios Generales | I16: 2989425.2 | J16: 4329499.6
B17: Derechos | D17: 0 | E17: 0
B18: Productos de Tipo Corriente | D18: 300820 | E18: 435230.07 | G18: Transferencia, Asignaciones, Subsidios y Otras Ayudas | I18: =SUM(I19:I27) -> 94816.66 | J18: =SUM(J19:J27) -> 197133.49
B19: Aprovechamientos de Tipo Corriente | D19: 1072076 | E19: 176492.52 | G19: Transferencias Internas y Asignaciones al Sector Público | I19: 0 | J19: 0
B20: Ingresos por Venta de Bienes y Servicios | D20: 7801.5 | E20: 1000 | G20: Transferencias al Resto del Sector Público | I20: 0 | J20: 0
B21: Ingresos no Comprendidos en las Fracciones de la Ley de Ingresos Causados en Ejercicios Fiscales Anteriores Pendientes de Liquidación o Pago | D21: 0 | E21: 0 | G21: Subsidios y Subvenciones | I21: 0 | J21: 0
G22: Ayudas Sociales | I22: 94816.66 | J22: 197133.49
B23: Participaciones, Aportaciones, Transferencias, Asignaciones, Subsidios y Otras Ayudas | D23: =SUM(D24:D25) -> 24534502 | E23: =SUM(E24:E25) -> 32256469 | G23: Pensiones y Jubilaciones | I23: 0 | J23: 0
B24: Participaciones y Aportaciones | D24: 10913266 | E24: 15698699 | G24: Transferencias a Fideicomisos, Mandatos y Contratos Análogos | I24: 0 | J24: 0
B25: Transferencia, Asignaciones, Subsidios y Otras ayudas | D25: 13621236 | E25: 16557770 | G25: Transferencias a la Seguridad Social | I25: 0 | J25: 0
G26: Donativos | I26: 0 | J26: 0
B27: Otros Ingresos y Beneficios | D27: =SUM(D28:D32) -> 7130.76 | E27: =SUM(E28:E32) -> 9749.02 | G27: Transferencias al Exterior | I27: 0 | J27: 0
B28: Ingresos Financieros | D28: 7130.36 | E28: 9748.46
B29: Incremento por Variación de Inventarios | D29: 0 | E29: 0 | G29: Participaciones y Aportaciones | I29: =SUM(I30:I32) -> 0 | J29: =SUM(J30:J32) -> 0
B30: Disminución del Exceso de Estimaciones por Pérdida o Deterioro u Obsolescencia | D30: 0 | E30: 0 | G30: Participaciones | I30: 0 | J30: 0
B31: Disminución del Exceso de Provisiones | D31: 0 | E31: 0 | G31: Aportaciones | I31: 0 | J31: 0
B32: Otros Ingresos y Beneficios Varios | D32: 0.4 | E32: 0.56 | G32: Convenios | I32: 0 | J32: 0
B34: Total de Ingresos y Otros Beneficios | D34: =D13+D23+D27 -> 25922330 | E34: =E13+E23+E27 -> 32878941 | G34: Intereses, Comisiones y Otros Gastos de la Deuda Pública | I34: =SUM(I35:I39) -> 0 | J34: =SUM(J35:J39) -> 0
G35: Intereses de la Deuda Pública | I35: 0 | J35: 0
G36: Comisiones de la Deuda Pública | I36: 0 | J36: 0
G37: Gastos de la Deuda Pública | I37: 0 | J37: 0
G38: Costo por Coberturas | I38: 0 | J38: 0
G39: Apoyos Financieros | I39: 0 | J39: 0
G41: Otros Gastos y Pérdidas Extraordinarias | I41: =SUM(I42:I47) -> -0.66 | J41: =SUM(J42:J47) -> 1474221.3
G42: Estimaciones, Depreciaciones, Deterioros, Obsolescencia y Amortizaciones | I42: 0 | J42: 1474215.9
G43: Provisiones | I43: 0 | J43: 0
G44: Disminución de Inventarios | I44: 0 | J44: 0
G45: Aumento por Insuficiencia de Estimaciones por Pérdida o Deterioro y Obsolescencia | I45: 0 | J45: 0
G46: Aumento por Insuficiencia de Provisiones | I46: 0 | J46: 0
G47: Otros Gastos | I47: -0.66 | J47: 5.34
G49: Inversión Pública | I49: =SUM(I50) -> 0 | J49: =SUM(J50) -> 0
...

Sheet ESF
C2: ESTADO DE SITUACIÓN FINANCIERA
C3: Al 30 de Septiembre del 2017 y 2016
C4: (Pesos)
D5: Ente Público: | E5: INSTITUTO TECNOLOGICO SUPERIOR DE SALVATIERRA
B8: CONCEPTO | D8: Año | G8: CONCEPTO | I8: Año
D9: 2017 | E9: 2016 | I9: 2017 | J9: 2016
B12: ACTIVO | G12: PASIVO
B14: Activo Circulante | G14: Pasivo Circulante
B16: Efectivo y Equivalentes | D16: 33094593 | E16: 30852593 | G16: Cuentas por Pagar a Corto Plazo | I16: 569315.99 | J16: 4828004.4
B17: Derechos a Recibir Efectivo o Equivalentes | D17: 29148 | E17: 17063.95 | G17: Documentos por Pagar a Corto Plazo | I17: 0 | J17: 0
B18: Derechos a Recibir Bienes o Servicios | D18: 78663.66 | E18: 313006.26 | G18: Porción a Corto Plazo de la Deuda Pública a Largo Plazo | I18: 0 | J18: 0
B19: Inventarios | D19: 0 | E19: 0 | G19: Títulos y Valores a Corto Plazo | I19: 0 | J19: 0
B20: Almacenes | D20: 0 | E20: 0 | G20: Pasivos Diferidos a Corto Plazo | I20: 0 | J20: 0
B21: Estimación por Pérdida o Deterioro de Activos Circulantes | D21: 0 | E21: 0 | G21: Fondos y Bienes de Terceros en Garantía y/o Administración a Corto Plazo | I21: 0 | J21: 0
B22: Otros Activos Circulantes | D22: 1827 | E22: 1827 | G22: Provisiones a Corto Plazo | I22: 0 | J22: 0
G23: Otros Pasivos a Corto Plazo | I23: 23417.85 | J23: 14871.14
B24: Total de Activos Circulantes | D24: =SUM(D16:D22) -> 33204232 | E24: =SUM(E16:E22) -> 31184490
G25: Total de Pasivos Circulantes | I25: =SUM(I16:I23) -> 592733.84 | J25: =SUM(J16:J23) -> 4842875.6
B27: Activo No Circulante | G27: Pasivo No Circulante
B29: Inversiones Financieras a Largo Plazo | D29: 0 | E29: 0 | G29: Cuentas por Pagar a Largo Plazo | I29: 0 | J29: 0
B30: Derechos a Recibir Efectivo o Equivalentes a Largo Plazo | D30: 0 | E30: 0 | G30: Documentos por Pagar a Largo Plazo | I30: 0 | J30: 0
B31: Bienes Inmuebles, Infraestructura y Construcciones en Proceso | D31: 77202942 | E31: 76423764 | G31: Deuda Pública a Largo Plazo | I31: 0 | J31: 0
B32: Bienes Muebles | D32: 24966891 | E32: 21992868 | G32: Pasivos Diferidos a Largo Plazo | I32: 0 | J32: 0
B33: Activos Intangibles | D33: 2851.04 | E33: 2851.04 | G33: Fondos y Bienes de Terceros en Garantía y/o en Administración a Largo Plazo | I33: 0 | J33: 0
B34: Depreciación, Deterioro y Amortización Acumulada de Bienes | D34: -8442779.4 | E34: -8442779.4 | G34: Provisiones a Largo Plazo | I34: 0 | J34: 0
B35: Activos Diferidos | D35: 0 | E35: 0
B36: Estimación por Pérdida o Deterioro de Activos no Circulantes | D36: 0 | E36: 0 | G36: Total de Pasivos No Circulantes | I36: =SUM(I29:I34) -> 0 | J36: =SUM(J29:J34) -> 0
B37: Otros Activos no Circulantes | D37: 0 | E37: 0
G38: Total del Pasivo | I38: =I25+I36 -> 592733.84 | J38: =J25+J36 -> 4842875.6
B39: Total de Activos No Circulantes | D39: =SUM(D29:D37) -> 93729904 | E39: =SUM(E29:E37) -> 89976704
G40: HACIENDA PÚBLICA/ PATRIMONIO
B41: Total del Activo | D41: =D24+D39 -> 1.2693414e+08 | E41: =E24+E39 -> 1.2116119e+08
G42: Hacienda Pública/Patrimonio Contribuido | I42: =SUM(I44:I46) -> 92445868 | J42: =SUM(J44:J46) -> 88634568
G44: Aportaciones | I44: 92445868 | J44: 88634568
G45: Donaciones de Capital | I45: 0 | J45: 0
G46: Actualización de la Hacienda Pública / Patrimonio | I46: 0 | J46: 0
G48: Hacienda Pública/Patrimonio Generado | I48: =SUM(I50:I54) -> 33895535 | J48: =SUM(J50:J54) -> 27683751
G50: Resultados del Ejercicio (Ahorro / Desahorro) | I50: 6219507.1 | J50: 2534422.5
G51: Resultados de Ejercicios Anteriores | I51: 27676028 | J51: 25149328
G52: Revalúos | I52: 0 | J52: 0
...

Sheet ECSF
C2: ESTADO DE CAMBIOS EN LA SITUACIÓN FINANCIERA
A3: Al 30 de Septiembre del 2017
A4: (Pesos)
D5: Ente Público: | E5: INSTITUTO TECNOLOGICO SUPERIOR DE SALVATIERRA
B9: Concepto | D9: Origen | E9: Aplicación | G9: Concepto | I9: Origen | J9: Aplicación
B12: ACTIVO | D12: =D14+D24 -> 234342.6 | E12: =E14+E24 -> 6007284.7 | G12: PASIVO | I12: =I14+I25 -> 8546.71 | J12: =J14+J25 -> 4258688.4
B14: Activo Circulante | D14: =SUM(D16:D22) -> 234342.6 | E14: =SUM(E16:E22) -> 2254084.1 | G14: Pasivo Circulante | I14: =SUM(I16:I23) -> 8546.71 | J14: =SUM(J16:J23) -> 4258688.4
B16: Efectivo y Equivalentes | D16: =IF(ESF!D16<ESF!E16,ESF!E16-ESF!D16,0) -> 0 | E16: =IF(D16>0,0,ESF!D16-ESF!E16) -> 2242000 | G16: Cuentas por Pagar a Corto Plazo | I16: =IF(ESF!I16>ESF!J16,ESF!I16-ESF!J16,0) -> 0 | J16: =IF(I16>0,0,ESF!J16-ESF!I16) -> 4258688.4
B17: Derechos a Recibir Efectivo o Equivalentes | D17: =IF(ESF!D17<ESF!E17,ESF!E17-ESF!D17,0) -> 0 | E17: =IF(D17>0,0,ESF!D17-ESF!E17) -> 12084.05 | G17: Documentos por Pagar a Corto Plazo | I17: =IF(ESF!I17>ESF!J17,ESF!I17-ESF!J17,0) -> 0 | J17: =IF(I17>0,0,ESF!J17-ESF!I17) -> 0
B18: Derechos a Recibir Bienes o Servicios | D18: =IF(ESF!D18<ESF!E18,ESF!E18-ESF!D18,0) -> 234342.6 | E18: =IF(D18>0,0,ESF!D18-ESF!E18) -> 0 | G18: Porción a Corto Plazo de la Deuda Pública a Largo Plazo | I18: =IF(ESF!I18>ESF!J18,ESF!I18-ESF!J18,0) -> 0 | J18: =IF(I18>0,0,ESF!J18-ESF!I18) -> 0
B19: Inventarios | D19: =IF(ESF!D19<ESF!E19,ESF!E19-ESF!D19,0) -> 0 | E19: =IF(D19>0,0,ESF!D19-ESF!E19) -> 0 | G19: Títulos y Valores a Corto Plazo | I19: =IF(ESF!I19>ESF!J19,ESF!I19-ESF!J19,0) -> 0 | J19: =IF(I19>0,0,ESF!J19-ESF!I19) -> 0
B20: Almacenes | D20: =IF(ESF!D20<ESF!E20,ESF!E20-ESF!D20,0) -> 0 | E20: =IF(D20>0,0,ESF!D20-ESF!E20) -> 0 | G20: Pasivos Diferidos a Corto Plazo | I20: =IF(ESF!I20>ESF!J20,ESF!I20-ESF!J20,0) -> 0 | J20: =IF(I20>0,0,ESF!J20-ESF!I20) -> 0
B21: Estimación por Pérdida o Deterioro de Activos Circulantes | D21: =IF(ESF!D21<ESF!E21,ESF!E21-ESF!D21,0) -> 0 | E21: =IF(D21>0,0,ESF!D21-ESF!E21) -> 0 | G21: Fondos y Bienes de Terceros en Garantía y/o Administración a Corto Plazo | I21: =IF(ESF!I21>ESF!J21,ESF!I21-ESF!J21,0) -> 0 | J21: =IF(I21>0,0,ESF!J21-ESF!I21) -> 0
B22: Otros Activos Circulantes | D22: =IF(ESF!D22<ESF!E22,ESF!E22-ESF!D22,0) -> 0 | E22: =IF(D22>0,0,ESF!D22-ESF!E22) -> 0 | G22: Provisiones a Corto Plazo | I22: =IF(ESF!I22>ESF!J22,ESF!I22-ESF!J22,0) -> 0 | J22: =IF(I22>0,0,ESF!J22-ESF!I22) -> 0
G23: Otros Pasivos a Corto Plazo | I23: =IF(ESF!I23>ESF!J23,ESF!I23-ESF!J23,0) -> 8546.71 | J23: =IF(I23>0,0,ESF!J23-ESF!I23) -> 0
B24: Activo No Circulante | D24: =SUM(D26:D34) -> 0 | E24: =SUM(E26:E34) -> 3753200.7
G25: Pasivo No Circulante | I25: =SUM(I27:I32) -> 0 | J25: =SUM(J27:J32) -> 0
B26: Inversiones Financieras a Largo Plazo | D26: =IF(ESF!D29<ESF!E29,ESF!E29-ESF!D29,0) -> 0 | E26: =IF(D26>0,0,ESF!D29-ESF!E29) -> 0
B27: Derechos a Recibir Efectivo o Equivalentes a Largo Plazo | D27: =IF(ESF!D30<ESF!E30,ESF!E30-ESF!D30,0) -> 0 | E27: =IF(D27>0,0,ESF!D30-ESF!E30) -> 0 | G27: Cuentas por Pagar a Largo Plazo | I27: =IF(ESF!I29>ESF!J29,ESF!I29-ESF!J29,0) -> 0 | J27: =IF(I27>0,0,ESF!J29-ESF!I29) -> 0
B28: Bienes Inmuebles, Infraestructura y Construcciones en Proceso | D28: =IF(ESF!D31<ESF!E31,ESF!E31-ESF!D31,0) -> 0 | E28: =IF(D28>0,0,ESF!D31-ESF!E31) -> 779177.7 | G28: Documentos por Pagar a Largo Plazo | I28: =IF(ESF!I30>ESF!J30,ESF!I30-ESF!J30,0) -> 0 | J28: =IF(I28>0,0,ESF!J30-ESF!I30) -> 0
B29: Bienes Muebles | D29: =IF(ESF!D32<ESF!E32,ESF!E32-ESF!D32,0) -> 0 | E29: =IF(D29>0,0,ESF!D32-ESF!E32) -> 2974022.9 | G29: Deuda Pública a Largo Plazo | I29: =IF(ESF!I31>ESF!J31,ESF!I31-ESF!J31,0) -> 0 | J29: =IF(I29>0,0,ESF!J31-ESF!I31) -> 0
B30: Activos Intangibles | D30: =IF(ESF!D33<ESF!E33,ESF!E33-ESF!D33,0) -> 0 | E30: =IF(D30>0,0,ESF!D33-ESF!E33) -> 0 | G30: Pasivos Diferidos a Largo Plazo | I30: =IF(ESF!I32>ESF!J32,ESF!I32-ESF!J32,0) -> 0 | J30: =IF(I30>0,0,ESF!J32-ESF!I32) -> 0
B31: Depreciación, Deterioro y Amortización Acumulada de Bienes | D31: =IF(ESF!D34<ESF!E34,ESF!E34-ESF!D34,0) -> 0 | E31: =IF(D31>0,0,ESF!D34-ESF!E34) -> 0 | G31: Fondos y Bienes de Terceros en Garantía y/o en Administración a Largo Plazo | I31: =IF(ESF!I33>ESF!J33,ESF!I33-ESF!J33,0) -> 0 | J31: =IF(I31>0,0,ESF!J33-ESF!I33) -> 0
B32: Activos Diferidos | D32: =IF(ESF!D35<ESF!E35,ESF!E35-ESF!D35,0) -> 0 | E32: =IF(D32>0,0,ESF!D35-ESF!E35) -> 0 | G32: Provisiones a Largo Plazo | I32: =IF(ESF!I34>ESF!J34,ESF!I34-ESF!J34,0) -> 0 | J32: =IF(I32>0,0,ESF!J34-ESF!I34) -> 0
B33: Estimación por Pérdida o Deterioro de Activos no Circulantes | D33: =IF(ESF!D36<ESF!E36,ESF!E36-ESF!D36,0) -> 0 | E33: =IF(D33>0,0,ESF!D36-ESF!E36) -> 0
B34: Otros Activos no Circulantes | D34: =IF(ESF!D37<ESF!E37,ESF!E37-ESF!D37,0) -> 0 | E34: =IF(D34>0,0,ESF!D37-ESF!E37) -> 0 | G34: HACIENDA PÚBLICA/ PATRIMONIO | I34: =I36+I42+I50 -> 10023084 | J34: =J36+J42+J50 -> 25149328
G36: Hacienda Pública/Patrimonio Contribuido | I36: =SUM(I38:I40) -> 3811299.8 | J36: =SUM(J38:J40) -> 0
G38: Aportaciones | I38: =IF(ESF!I44>ESF!J44,ESF!I44-ESF!J44,0) -> 3811299.8 | J38: =IF(I38>0,0,ESF!J44-ESF!I44) -> 0
G39: Donaciones de Capital | I39: =IF(ESF!I45>ESF!J45,ESF!I45-ESF!J45,0) -> 0 | J39: =IF(I39>0,0,ESF!J45-ESF!I45) -> 0
G40: Actualización de la Hacienda Pública / Patrimonio | I40: =IF(ESF!I46>ESF!J46,ESF!I46-ESF!J46,0) -> 0 | J40: =IF(I40>0,0,ESF!J46-ESF!I46) -> 0
G42: Hacienda Pública/Patrimonio Generado | I42: =SUM(I44:I48) -> 6211784.1 | J42: =SUM(J44:J48) -> 25149328
G44: Resultados del Ejercicio (Ahorro / Desahorro) | I44: =IF(ESF!I50>ESF!J50,ESF!I50-ESF!J50,0) -> 3685084.6 | J44: =IF(I44>0,0,ESF!J50-ESF!I50) -> 0
G45: Resultados de Ejercicios Anteriores | I45: =IF(ESF!I51>ESF!J51,ESF!I51-ESF!J51,0) -> 2526699.5 | J45: =IF(I45>0,0,ESF!J51-ESF!I51) -> 0
G46: Revalúos | I46: =IF(ESF!I52>ESF!J52,ESF!I52-ESF!J52,0) -> 0 | J46: =IF(I46>0,0,ESF!J52-ESF!I52) -> 0
G47: Reservas | I47: =IF(ESF!I53>ESF!J53,ESF!I53-ESF!J53,0) -> 0 | J47: =IF(I47>0,0,ESF!J53-ESF!I53) -> 0
G48: Rectificaciones de Resultados de Ejercicios Anteriores | I48: =IF(ESF!I54>ESF!J54,ESF!I54-ESF!J54,0) -> 0 | J48: 25149328
G50: Exceso o Insuficiencia en la Actualización de la Hacienda Pública/Patrimonio | I50: =SUM(I52:I53) -> 0 | J50: =SUM(J52:J53) -> 0
G52: Resultado por Posición Monetaria | I52: =IF(ESF!I58>ESF!J58,ESF!I58-ESF!J58,0) -> 0 | J52: =IF(I52>0,0,ESF!J58-ESF!I58) -> 0
G53: Resultado por Tenencia de Activos no Monetarios | I53: =IF(ESF!I59>ESF!J59,ESF!I59-ESF!J59,0) -> 0 | J53: =IF(I53>0,0,ESF!J59-ESF!I59) -> 0
B57: Bajo protesta de decir verdad declaramos que los Estados Financieros y sus Notas son razonablemente correctos y responsabilidad del emisor
...

Sheet PT_ESF_ECSF
A2: Sector: | E2: =ESF!#REF! -> #REF!
A3: Ente Público: | E3: =ESF!C5 -> 0
A4: Fecha:
A5: Edo. Financiero | E5: EF
C6: Año | E6: 2013
A7: Activo | B7: Activo Circulante | C7: Efectivo y Equivalentes | E7: =ESF!D16 -> 33094593
C8: Derechos a Recibir Efectivo o Equivalentes | E8: =ESF!D17 -> 29148
C9: Derechos a Recibir Bienes o Servicios | E9: =ESF!D18 -> 78663.66
C10: Inventarios | E10: =ESF!D19 -> 0
C11: Almacenes | E11: =ESF!D20 -> 0
C12: Estimación por Pérdida o Deterioro de Activos Circulantes | E12: =ESF!D21 -> 0
C13: Otros Activos Circulantes | E13: =ESF!D22 -> 1827
C14: Total de Activos Circulantes | E14: =ESF!D24 -> 33204232
B15: Activo No Circulante | C15: Inversiones Financieras a Largo Plazo | E15: =ESF!D29 -> 0
C16: Derechos a Recibir Efectivo o Equivalentes a Largo Plazo | E16: =ESF!D30 -> 0
C17: Bienes Inmuebles, Infraestructura y Construcciones en Proceso | E17: =ESF!D31 -> 77202942
C18: Bienes Muebles | E18: =ESF!D32 -> 24966891
C19: Activos Intangibles | E19: =ESF!D33 -> 2851.04
C20: Depreciación, Deterioro y Amortización Acumulada de Bienes | E20: =ESF!D34 -> -8442779.4
C21: Activos Diferidos | E21: =ESF!D35 -> 0
C22: Estimación por Pérdida o Deterioro de Activos no Circulantes | E22: =ESF!D36 -> 0
C23: Otros Activos no Circulantes | E23: =ESF!D37 -> 0
C24: Total de Activos No Circulantes | E24: =ESF!D39 -> 93729904
C25: TOTAL DEL ACTIVO | E25: =ESF!D41 -> 1.2693414e+08
A26: Pasivo | B26: Pasivo Circulante | C26: Cuentas por Pagar a Corto Plazo | E26: =ESF!I16 -> 569315.99
C27: Documentos por Pagar a Corto Plazo | E27: =ESF!I17 -> 0
C28: Porción a Corto Plazo de la Deuda Pública a Largo Plazo | E28: =ESF!I18 -> 0
C29: Títulos y Valores a Corto Plazo | E29: =ESF!I19 -> 0
C30: Pasivos Diferidos a Corto Plazo | E30: =ESF!I20 -> 0
C31: Fondos y Bienes de Terceros en Garantía y/o Administración a Corto Plazo | E31: =ESF!I21 -> 0
C32: Provisiones a Corto Plazo | E32: =ESF!I22 -> 0
C33: Otros Pasivos a Corto Plazo | E33: =ESF!I23 -> 23417.85
C34: Total de Pasivos Circulantes | E34: =ESF!I25 -> 592733.84
B35: Pasivo No Circulante | C35: Cuentas por Pagar a Largo Plazo | E35: =ESF!I29 -> 0
C36: Documentos por Pagar a Largo Plazo | E36: =ESF!I30 -> 0
C37: Deuda Pública a Largo Plazo | E37: =ESF!I31 -> 0
C38: Pasivos Diferidos a Largo Plazo | E38: =ESF!I32 -> 0
C39: Fondos y Bienes de Terceros en Garantía y/o en Administración a Largo Plazo | E39: =ESF!I33 -> 0
C40: Provisiones a Largo Plazo | E40: =ESF!I34 -> 0
C41: Total de Pasivos No Circulantes | E41: =ESF!I36 -> 0
...

Sheet EAA
C2: ESTADO ANALÍTICO DEL ACTIVO
A3: Al 30 de Septiembre del 2017
C4: (Pesos)
C5: Ente Público: | D5: INSTITUTO TECNOLOGICO SUPERIOR DE SALVATIERRA
B8: Concepto | D8: Saldo Inicial | E8: Cargos del Periodo | F8: Abonos del Periodo | G8: Saldo Final | H8: Variación del Periodo
D9: 1 | E9: 2 | F9: 3 | G9: 4 =(1+2-3) | H9: (4-1)
B12: ACTIVO | D12: =+D14+D24 -> 1.2116119e+08 | E12: =+E14+E24 -> 71823270 | F12: =+F14+F24 -> 66050328 | G12: =+D12+E12-F12 -> 1.2693414e+08 | H12: =+G12-D12 -> 5772942.1
G13: =+D13+E13-F13 -> 0
B14: Activo Circulante | D14: =SUM(D16:D22) -> 31184490 | E14: =SUM(E16:E22) -> 67791838 | F14: =SUM(F16:F22) -> 65772096 | G14: =+D14+E14-F14 -> 33204232 | H14: =+G14-D14 -> 2019741.5
B16: Efectivo y Equivalentes | D16: =+ESF!E16 -> 30852593 | E16: 39506353 | F16: 37264353 | G16: =+D16+E16-F16 -> 33094593 | H16: =+G16-D16 -> 2242000 | K16: =IF(G16=ESF!D16," ","Error")
B17: Derechos a Recibir Efectivo o Equivalentes | D17: =+ESF!E17 -> 17063.95 | E17: 28108862 | F17: 28096778 | G17: =+D17+E17-F17 -> 29148 | H17: =+G17-D17 -> 12084.05 | K17: =IF(G17=ESF!D17," ","Error")
B18: Derechos a Recibir Bienes o Servicios | D18: =+ESF!E18 -> 313006.26 | E18: 176621.95 | F18: 410964.55 | G18: =+D18+E18-F18 -> 78663.66 | H18: =+G18-D18 -> -234342.6 | K18: =IF(G18=ESF!D18," ","Error")
B19: Inventarios | D19: =+ESF!E19 -> 0 | E19: 0 | F19: 0 | G19: =+D19+E19-F19 -> 0 | H19: =+G19-D19 -> 0 | K19: =IF(G19=ESF!D19," ","Error")
B20: Almacenes | D20: =+ESF!E20 -> 0 | E20: 0 | F20: 0 | G20: =+D20+E20-F20 -> 0 | H20: =+G20-D20 -> 0 | K20: =IF(G20=ESF!D20," ","Error")
B21: Estimación por Pérdida o Deterioro de Activos Circulantes | D21: =+ESF!E21 -> 0 | E21: 0 | F21: 0 | G21: =+D21+E21-F21 -> 0 | H21: =+G21-D21 -> 0 | K21: =IF(G21=ESF!D21," ","Error")
B22: Otros Activos Circulantes | D22: =+ESF!E22 -> 1827 | E22: 0 | F22: 0 | G22: =+D22+E22-F22 -> 1827 | H22: =+G22-D22 -> 0 | K22: =IF(G22=ESF!D22," ","Error")
B24: Activo No Circulante | D24: =SUM(D26:D34) -> 89976704 | E24: =SUM(E26:E34) -> 4031432.8 | F24: =SUM(F26:F34) -> 278232.11 | G24: =+D24+E24-F24 -> 93729904 | H24: =+G24-D24 -> 3753200.7
B26: Inversiones Financieras a Largo Plazo | D26: =+ESF!E29 -> 0 | E26: 0 | F26: 0 | G26: =+D26+E26-F26 -> 0 | H26: =+G26-D26 -> 0
B27: Derechos a Recibir Efectivo o Equivalentes a Largo Plazo | D27: =+ESF!E30 -> 0 | E27: 0 | F27: 0 | G27: =+D27+E27-F27 -> 0 | H27: =+G27-D27 -> 0
B28: Bienes Inmuebles, Infraestructura y Construcciones en Proceso | D28: =+ESF!E31 -> 76423764 | E28: 1057409.8 | F28: 278232.11 | G28: =+D28+E28-F28 -> 77202942 | H28: =+G28-D28 -> 779177.7
B29: Bienes Muebles | D29: =+ESF!E32 -> 21992868 | E29: 2974023 | F29: 0 | G29: =+D29+E29-F29 -> 24966891 | H29: =+G29-D29 -> 2974022.9
B30: Activos Intangibles | D30: =+ESF!E33 -> 2851.04 | E30: 0 | F30: 0 | G30: =+D30+E30-F30 -> 2851.04 | H30: =+G30-D30 -> 0
B31: Depreciación, Deterioro y Amortización Acumulada de Bienes | D31: =+ESF!E34 -> -8442779.4 | E31: 0 | F31: 0 | G31: =+D31+E31-F31 -> -8442779.4 | H31: =+G31-D31 -> 0
B32: Activos Diferidos | D32: =+ESF!E35 -> 0 | E32: 0 | F32: 0 | G32: =+D32+E32-F32 -> 0 | H32: =+G32-D32 -> 0
B33: Estimación por Pérdida o Deterioro de Activos no Circulantes | D33: =+ESF!E36 -> 0 | E33: 0 | F33: 0 | G33: =+D33+E33-F33 -> 0 | H33: =+G33-D33 -> 0
B34: Otros Activos no Circulantes | D34: =+ESF!E37 -> 0 | E34: 0 | F34: 0 | G34: =+D34+E34-F34 -> 0 | H34: =+G34-D34 -> 0 | K34: =IF(G34=ESF!D37," ","error")
B38: Bajo protesta de decir verdad declaramos que los Estados Financieros y sus Notas son razonablemente correctos y responsabilidad del emisor
B41: KARLA ALEJANDRINA LANUZA HERNANDEZ | E41: RAMIRO CONTRERAS RODRIGUEZ
B42: DIRECTORA | E42: SUBDIRECTOR DE FINANZAS Y ADMINISTRACIÓN

Sheet EADP
C2: ESTADO ANALÍTICO DE LA DEUDA Y OTROS PASIVOS
A3: Al 30 de Septiembre del 2017
C4: (Pesos)
D6: Ente Público: | E6: INSTITUTO TECNOLOGICO SUPERIOR DE SALVATIERRA
B9: Denominación de las Deudas | F9: Moneda de Contratación | G9: Institución o País Acreedor | H9: Saldo Inicial del Periodo | I9: Saldo Final del Periodo
B12: DEUDA PÚBLICA
B13: Corto Plazo
B14: Deuda Interna | H14: =SUM(H15:H17) -> 0 | I14: =SUM(I15:I17) -> 0
C15: Instituciones de Crédito | H15: 0 | I15: 0
C16: Títulos y Valores | H16: 0 | I16: 0
C17: Arrendamientos Financieros | H17: 0 | I17: 0
B19: Deuda Externa | H19: =SUM(H20:H23) -> 0 | I19: =SUM(I20:I23) -> 0
C20: Organismos Financieros Internacionales | H20: 0 | I20: 0
C21: Deuda Bilateral | H21: 0 | I21: 0
C22: Títulos y Valores | H22: 0 | I22: 0
C23: Arrendamientos Financieros | H23: 0 | I23: 0
B25: Subtotal a Corto Plazo | H25: =H14+H19 -> 0 | I25: =I14+I19 -> 0
B27: Largo Plazo
B28: Deuda Interna | H28: =SUM(H29:H31) -> 0 | I28: =SUM(I29:I31) -> 0
C29: Instituciones de Crédito | H29: 0 | I29: 0
C30: Títulos y Valores | H30: 0 | I30: 0
C31: Arrendamientos Financieros | H31: 0 | I31: 0
B33: Deuda Externa | H33: =SUM(H34:H37) -> 0 | I33: =SUM(I34:I37) -> 0
C34: Organismos Financieros Internacionales | H34: 0 | I34: 0
C35: Deuda Bilateral | H35: 0 | I35: 0
C36: Títulos y Valores | H36: 0 | I36: 0
C37: Arrendamientos Financieros | H37: 0 | I37: 0
B39: Subtotal a Largo Plazo | H39: =+H28+H33 -> 0 | I39: =+I28+I33 -> 0
B41: Otros Pasivos | H41: 4842875.6 | I41: 592733.84
B43: Total Deuda y Otros Pasivos | H43: =H25+H39+H41 -> 4842875.6 | I43: =I25+I39+I41 -> 592733.84
B46: Bajo protesta de decir verdad declaramos que los Estados Financieros y sus Notas son razonablemente correctos y responsabilidad del emisor
C49: KARLA ALEJANDRINA LANUZA HERNANDEZ | G49: RAMIRO CONTRERAS RODRIGUEZ
C50: DIRECTORA | G50: SUBDIRECTOR DE FINANZAS Y ADMINISTRACIÓN

Sheet EVHP
C2: ESTADO DE VARIACIÓN DE LA HACIENDA PÚBLICA
A3: Al 30 de Septiembre del 2017
C4: (pesos)
C6: Ente Público: | D6: INSTITUTO TECNOLOGICO SUPERIOR DE SALVATIERRA
B9: Concepto | D9: Hacienda Pública/Patrimonio Contribuido | E9: Hacienda Pública/Patrimonio Generado de Ejercicios Anteriores | F9: Hacienda Pública/Patrimonio Generado del Ejercicio | G9: Ajustes por Cambios de Valor | H9: TOTAL
B12: Rectificaciones de Resultados de Ejercicios Anteriores | D12: 0 | E12: 0 | F12: 0 | G12: 0 | H12: =SUM(D12:G12) -> 0
B14: Patrimonio Neto Inicial Ajustado del Ejercicio | D14: =SUM(D15:D17) -> 88634568 | E14: =SUM(E15:E17) -> 0 | F14: =SUM(F15:F17) -> 0 | G14: =SUM(G15:G17) -> 0 | H14: =SUM(D14:G14) -> 88634568
B15: Aportaciones | D15: =+ESF!J44 -> 88634568 | E15: 0 | F15: 0 | G15: 0 | H15: =SUM(D15:G15) -> 88634568
B16: Donaciones de Capital | D16: 0 | E16: 0 | F16: 0 | G16: 0 | H16: =SUM(D16:G16) -> 0
B17: Actualización de la Hacienda Pública/Patrimonio | D17: 0 | E17: 0 | F17: 0 | G17: 0 | H17: =SUM(D17:G17) -> 0
B19: Variaciones de la Hacienda Pública/Patrimonio Neto del Ejercicio | D19: =SUM(D20:D23) -> 0 | E19: =SUM(E20:E23) -> 27683751 | F19: =SUM(F20:F23) -> 0 | G19: =SUM(G20:G23) -> 0 | H19: =SUM(D19:G19) -> 27683751
B20: Resultados del Ejercicio (Ahorro/Desahorro) | D20: 0 | E20: =+ESF!J50 -> 2534422.5 | F20: 0 | G20: 0 | H20: =SUM(D20:G20) -> 2534422.5
B21: Resultados de Ejercicios Anteriores | D21: 0 | E21: =+ESF!J51 -> 25149328 | F21: 0 | G21: 0 | H21: =SUM(D21:G21) -> 25149328
B22: Revalúos | D22: 0 | E22: 0 | F22: 0 | G22: 0 | H22: =SUM(D22:G22) -> 0
B23: Reservas | D23: 0 | E23: 0 | F23: 0 | G23: 0 | H23: =SUM(D23:G23) -> 0
B25: Hacienda Pública/Patrimonio Neto Final del Ejercicio 2015 | D25: =D12+D14+D19 -> 88634568 | E25: =E12+E14+E19 -> 27683751 | F25: =F12+F14+F19 -> 0 | G25: =G12+G14+G19 -> 0 | H25: =SUM(D25:G25) -> 1.1631832e+08 | J25: =+ESF!J61-EVHP!H25 -> 0
B27: Cambios en la Hacienda Pública/Patrimonio Neto del Ejercicio 2016 | D27: =SUM(D28:D30) -> 3811299.8 | E27: =SUM(E28:E30) -> 0 | F27: =SUM(F28:F30) -> 0 | G27: =SUM(G28:G30) -> 0 | H27: =SUM(D27:G27) -> 3811299.8
B28: Aportaciones | D28: =+ESF!I44-D14 -> 3811299.8 | E28: 0 | F28: 0 | G28: 0 | H28: =SUM(D28:G28) -> 3811299.8
B29: Donaciones de Capital | D29: 0 | E29: 0 | F29: 0 | G29: 0 | H29: =SUM(D29:G29) -> 0
B30: Actualización de la Hacienda Pública/Patrimonio | D30: 0 | E30: 0 | F30: 0 | G30: 0 | H30: =SUM(D30:G30) -> 0
B32: Variaciones de la Hacienda Pública/Patrimonio Neto del Ejercicio | D32: =SUM(D33:D36) -> 0 | E32: =SUM(E33:E36) -> -7722.99 | F32: =SUM(F33:F36) -> 6219507.1 | G32: =SUM(G33:G36) -> 0 | H32: =SUM(D32:G32) -> 6211784.1
B33: Resultados del Ejercicio (Ahorro/Desahorro) | D33: 0 | E33: 0 | F33: =+ESF!I50 -> 6219507.1 | G33: 0 | H33: =SUM(D33:G33) -> 6219507.1
B34: Resultados de Ejercicios Anteriores | D34: 0 | E34: =+ESF!I51-E21-E20 -> -7722.99 | F34: 0 | G34: 0 | H34: =SUM(D34:G34) -> -7722.99
B35: Revalúos | D35: 0 | E35: 0 | F35: 0 | G35: 0 | H35: =SUM(D35:G35) -> 0
B36: Reservas | D36: 0 | E36: 0 | F36: 0 | G36: 0 | H36: =SUM(D36:G36) -> 0
B38: Saldo Neto en la Hacienda Pública / Patrimonio 2017 | D38: =D25+D27+D32 -> 92445868 | E38: =E25+E27+E32 -> 27676028 | F38: =F27+F32 -> 6219507.1 | G38: =G25+G27+G32 -> 0 | H38: =SUM(D38:G38) -> 1.263414e+08 | J38: =+H38-ESF!I61 -> 0
B41: Bajo protesta de decir verdad declaramos que los Estados Financieros y sus Notas son razonablemente correctos y responsabilidad del emisor
C44: KARLA ALEJANDRINA LANUZA HERNANDEZ | G44: RAMIRO CONTRERAS RODRIGUEZ
C45: DIRECTORA | G45: SUBDIRECTOR DE FINANZAS Y ADMINISTRACIÓN

Sheet EFE
A2: ESTADOS DE FLUJOS DE EFECTIVO
A3: Al 30 de Septiembre del 2017
A4: (Pesos)
G6: Ente Público: | H6: INSTITUTO TECNOLOGICO SUPERIOR DE SALVATIERRA
B9: Concepto | G9: 2017 | H9: 2016 | J9: Concepto | O9: 2017 | P9: 2016
B12: Flujos de Efectivo de las Actividades de Gestión | J12: Flujos de Efectivo de las Actividades de Inversión
C14: Origen | G14: =SUM(G15:G25) -> 25922331 | H14: =SUM(H15:H25) -> 32878941 | K14: Origen | O14: =SUM(O15:O17) -> 3811299.8 | P14: =SUM(P15:P17) -> 4670990.9
D15: Impuestos | G15: 0 | H15: 0 | L15: Bienes Inmuebles, Infraestructura y Construcciones en Proceso | O15: 3811299.8 | P15: 4670990.9
D16: Cuotas y Aportaciones de Seguridad Social | L16: Bienes Muebles | O16: 0 | P16: 0
D17: Contribuciones de mejoras | G17: 0 | H17: 0 | L17: Otros Orígenes de Inversión | O17: 0 | P17: 0
D18: Derechos | G18: 0 | H18: 0
D19: Productos de Tipo Corriente | G19: 300820 | H19: 435230.07 | K19: Aplicación | O19: =SUM(O20:O22) -> 3753200.7 | P19: =SUM(P20:P22) -> 10279396
D20: Aprovechamientos de Tipo Corriente | G20: 1072076 | H20: 176492.52 | L20: Bienes Inmuebles, Infraestructura y Construcciones en Proceso | O20: 779177.7 | P20: 5238958.9
D21: Ingresos por Venta de Bienes y Servicios | G21: 7801.5 | H21: 1000 | L21: Bienes Muebles | O21: 2974023 | P21: 5037586.5
D22: Ingresos no Comprendidos en las Fracciones de la Ley de Ingresos Causados en Ejercicios Fiscales Anteriores Pendientes de Liquidación o Pago | G22: 0 | H22: 0 | L22: Otras Aplicaciones de Inversión | O22: 0 | P22: 2851.04
D23: Participaciones y Aportaciones | G23: 10913266 | H23: 15698699 | K23: Flujos Netos de Efectivo por Actividades de Inversión | O23: =O14-O19 -> 58099.1 | P23: =P14-P19 -> -5608405.5
D24: Transferencias, Asignaciones y Subsidios y Otras Ayudas | G24: 13621236 | H24: 16557770
D25: Otros Orígenes de Operación | G25: 7131.71 | H25: 9749.02
J26: Flujo de Efectivo de las Actividades de Financiamiento
C27: Aplicación | G27: =SUM(G28:G46) -> 19702822 | H27: =SUM(H28:H46) -> 30344518
D28: Servicios Personales | G28: 16121775 | H28: 22945913 | K28: Origen | O28: =O29+O32 -> 6454673.7 | P28: =P29+P32 -> 4276690.4
D29: Materiales y Suministros | G29: 496805.38 | H29: 1397750.8 | L29: Endeudamiento Neto | O29: =SUM(O30:O31) -> 0 | P29: =SUM(P30:P31) -> 0
D30: Servicios Generales | G30: 2989425.2 | H30: 4329499.6 | L30: Interno | O30: 0 | P30: 0
L31: Externo | O31: 0 | P31: 0
D32: Transferencias Internas y Asignaciones al Sector Público | G32: 0 | H32: 0 | L32: Otros Orígenes de Financiamiento | O32: 6454673.7 | P32: 4276690.4
D33: Transferencias al resto del Sector Público | G33: 0 | H33: 0
D34: Subsidios y Subvenciones | G34: 0 | H34: 0 | K34: Aplicación | O34: =O35+O38 -> 11269458 | P34: =P35+P38 -> 10832608
D35: Ayudas Sociales | G35: 94816.66 | H35: 197133.49 | L35: Servicios de la Deuda | O35: =SUM(O36:O37) -> 0 | P35: =SUM(P36:P37) -> 0
D36: Pensiones y Jubilaciones | G36: 0 | H36: 0 | L36: Interno | O36: 0 | P36: 0
D37: Transferencias a Fideicomisos, Mandatos y Contratos Análogos | G37: 0 | H37: 0 | L37: Externo | O37: 0 | P37: 0
D38: Transferencias a la Seguridad Social | G38: 0 | H38: 0 | L38: Otras Aplicaciones de Financiamiento | O38: 11269458 | P38: 10832608
D39: Donativos | G39: 0 | H39: 0
D40: Transferencias al Exterior | G40: 0 | H40: 0 | K40: Flujos netos de Efectivo por Actividades de Financiamiento | O40: =O28-O34 -> -4814783.9 | P40: =P28-P34 -> -6555918
D42: Participaciones | G42: 0 | H42: 0
D43: Aportaciones | G43: 0 | H43: 0 | J43: Incremento/Disminución Neta en el Efectivo y Equivalentes al Efectivo | O43: =G48+O23+O40 -> 1462824.1 | P43: =H48+P23+P40 -> -9629901
D44: Convenios | G44: 0 | H44: 0
D46: Otras Aplicaciones de Operación | G46: -0.66 | H46: 1474221.3
J47: Efectivo y Equivalente al Efectivo al Inicio del Ejericio | O47: 30852593 | P47: 35240684
C48: Flujos Netos de Efectivo por Actividades de Operación | G48: =G14-G27 -> 6219508.8 | H48: =H14-H27 -> 2534422.5 | J48: Efectivo y Equivalente al Efectivo al Final del Ejericio | O48: =+O47+O43 -> 32315417 | P48: =+ESF!E16 -> 30852593
B53: Bajo protesta de decir verdad declaramos que los Estados Financieros y sus Notas son razonablemente correctos y responsabilidad del emisor
...

Sheet PC
A2: INFORME DE PASIVOS CONTIGENTES
A3: Al 30 de Septiembre del 2017
A4: (Pesos)
B6: Ente Público: | C6: INSTITUTO TECNOLOGICO SUPERIOR DE SALVATIERRA
A8: NOMBRE | B8: CONCEPTO
A9: JUICIOS
B12: NO APLICA
A14: GARANTÍAS
A19: AVALES
A24: PENSIONES Y JUBILACIONES
A27: Bajo protesta de decir verdad declaramos que los Estados Financieros y sus Notas son razonablemente correctos y responsabilidad del emisor
B32: KARLA ALEJANDRINA LANUZA HERNANDEZ | D32: RAMIRO CONTRERAS RODRIGUEZ
B33: DIRECTORA | D33: SUBDIRECTOR DE FINANZAS Y ADMINISTRACIÓN

Sheet NOTAS
A3: NOTAS A LOS ESTADOS FINANCIEROS
A4: Al 30 de Septiembre del 2017
E6: Ente Público: | F6: INSTITUTO TECNOLOGICO SUPERIOR DE SALVATIERRA
A8: NOTAS DE DESGLOSE
B9: I) NOTAS AL ESTADO DE SITUACIÓN FINANCIERA
B11: ACTIVO
B13: * EFECTIVO Y EQUIVALENTES | C13: NO APLICA
B15: ESF-01 FONDOS C/INVERSIONES FINANCIERAS | C15: MONTO | D15: TIPO | E15: MONTO PARCIAL
B16: 1114 Inversiones a 3 meses | D16: 0 | E16: 0
D17: 0 | E17: 0
B18: 1121 Inversiones mayores a 3 meses hasta 12. | D18: 0 | E18: 0
D19: 0 | E19: 0
B20: 1211 INVERSIONES A LP | D20: 0 | E20: 0
C21: =SUM(C16:C20) -> 0 | E21: =SUM(E16:E20) -> 0
B25: * DERECHOSA RECIBIR EFECTIVO Y EQUIVALENTES Y BIENES O SERVICIOS A RECIBIR
B27: ESF-02 INGRESOS P/RECUPERAR | C27: MONTO | D27: 2015 | E27: 2014
B28: 1122 CUENTAS POR COBRAR CP
B29: 1122602001 CUENTAS POR COBRAR A ENTIDADES FED Y MPIOS | C29: 0 | D29: 100000 | E29: 1664763
B30: 1122902001 OTRAS CUENTAS POR COBRAR | C30: 0 | D30: 1701.4 | E30: 0
B31: 1124 INGRESOS POR RECUPERAR CP
C33: =SUM(C28:C32) -> 0 | D33: =SUM(D28:D32) -> 101701.4 | E33: =SUM(E28:E32) -> 1664763
B36: ESF-03 DEUDORES P/RECUPERAR | C36: MONTO | D36: 90 DIAS | E36: 180 DIAS | F36: 365 DIAS
B37: 1123101002 GASTOS A RESERVA DE COMPROBAR | C37: 21148 | D37: 21148
B38: 1123102001 FUNCIONARIOS Y EMPLEADOS
B39: 1125 DEUDORES POR ANTICIPOS
B40: 1125102001 FONDO FIJO | C40: 8000 | D40: 8000
B41: 1131001001 ANTICIPO A PROVEEDORES | C41: 4001.73 | D41: 4001.73
B42: 1134201002 ANTICIPO A CONTRATISTAS | C42: 74661.93 | D42: 74661.93
C43: =SUM(C36:C42) -> 107811.66 | D43: =SUM(D36:D42) -> 107811.66 | E43: =SUM(E36:E42) -> 0 | F43: =SUM(F36:F42) -> 0
B47: * BIENES DISPONIBLES PARA SU TRANSFORMACIÓN O CONSUMO.
B49: ESF-05 INVENTARIO Y ALMACENES | C49: MONTO | D49: METODO
B50: 1140 INVENTARIOS | D50: 0
B51: NO APLICA | D51: 0
B52: 1150 ALMACENES
D53: 0
C54: =SUM(C49:C53) -> 0
B58: * INVERSIONES FINANCIERAS.
B60: ESF-06 FIDEICOMISOS, MANDATOS Y CONTRATOS ANALOGOS | C60: MONTO | D60: TIPO | E60: CARACTERISTICAS | F60: NOMBRE DE FIDEICOMIS0O | G60: OBJETO
B61: 1213 FIDEICOMISOS, MANDATOS Y CONTRATOS ANÁLOGOS | D61: 0 | E61: 0 | F61: 0 | G61: 0
C62: NO APLICA | D62: 0 | E62: 0 | F62: 0 | G62: 0
...

Sheet EAI
B1: ESTADO ANALÍTICO DE INGRESOS
D2: POR FUENTE DE FINANCIAMIENTO Y FUENTE DE FINANCIAMIENTO/RUBRO
B3: Del 1 de Enero al 30 de Septiembre de 2017
D5: Ente Público: | E5: INSTITUTO TECNOLOGICO SUPERIOR DE SALVATIERRA
B7: Rubro de Ingresos | E7: Ingreso | J7: Diferencia
E8: Estimado | F8: Ampliaciones y Reducciones | G8: Modificado | H8: Devengado | I8: Recaudado
E9: (1) | F9: (2) | G9: (3= 1 + 2) | H9: (4) | I9: (5) | J9: (6 = 5 - 1 )
B11: Impuestos | E11: 0 | F11: 0 | G11: =+E11+F11 -> 0 | H11: 0 | I11: 0 | J11: =+I11-E11 -> 0
B12: Cuotas y Aportaciones de Seguridad Social | E12: 0 | F12: 0 | G12: =+E12+F12 -> 0 | H12: 0 | I12: 0 | J12: =+I12-E12 -> 0
B13: Contribuciones de Mejoras | E13: 0 | F13: 0 | G13: =+E13+F13 -> 0 | H13: 0 | I13: 0 | J13: =+I13-E13 -> 0
B14: Derechos | E14: 0 | F14: 0 | G14: =+E14+F14 -> 0 | H14: 0 | I14: 0 | J14: =+I14-E14 -> 0
B15: Productos | E15: =+E16+E17 -> 341200 | F15: =+F16+F17 -> 43370.36 | G15: =+G16+G17 -> 384570.36 | H15: =+H16+H17 -> 307950.36 | I15: =+I16+I17 -> 307950.36 | J15: =+I15-E15 -> -33249.64
C16: Corriente | E16: 341200 | F16: 43370.36 | G16: =+E16+F16 -> 384570.36 | H16: 307950.36 | I16: 307950.36 | J16: =+I16-E16 -> -33249.64
C17: Capital
B18: Aprovechamientos | E18: =+E19+E20 -> 3000 | F18: =+F19+F20 -> 7346892.8 | G18: =+G19+G20 -> 7349892.8 | H18: =+H19+H20 -> 3806886.6 | I18: =+I19+I20 -> 3806886.6 | J18: =+I18-E18 -> 3803886.6
C19: Corriente | E19: 3000 | F19: 7346892.8 | G19: =+E19+F19 -> 7349892.8 | H19: 3806886.6 | I19: 3806886.6 | J19: =+I19-E19 -> 3803886.6
C20: Capital | E20: 0
C21: No Comprendidos en las fracciones de la Ley de Ingresos causadas en
C22: ejercicios fiscales anteriores pendiente de liquidación o pago
B23: Ingresos por Ventas de Bienes y Servicios | E23: 1500 | F23: 6301.5 | G23: =+E23+F23 -> 7801.5 | H23: 7801.5 | I23: 7801.5 | J23: =+I23-E23 -> 6301.5
B24: Participaciones y Aportaciones | F24: 17045732 | G24: =+E24+F24 -> 17045732 | H24: 10913266 | I24: 10913266 | J24: =+I24-E24 -> 10913266
B25: Transferencias, Asignaciones, Subsidios y Otras Ayudas | E25: 18231970 | F25: 3853165.2 | G25: =+E25+F25 -> 22085135 | H25: 17432535 | I25: 17432535 | J25: =+I25-E25 -> -799434.59
B26: Ingresos Derivados de Financiamientos
D28: Total | E28: =SUM(E11+E12+E13+E14+E15+E18+E23+E24+E25+E26) -> 18577670 | F28: =SUM(F11+F12+F13+F14+F15+F18+F23+F24+F25+F26) -> 28295462 | G28: =SUM(G11+G12+G13+G14+G15+G18+G23+G24+G25+G26) -> 46873132 | H28: =SUM(H11+H12+H13+H14+H15+H18+H23+H24+H25+H26) -> 32468440 | I28: =SUM(I11+I12+I13+I14+I15+I18+I23+I24+I25+I26) -> 32468440 | J28: =+J15+J18+J23+J24+J25 -> 13890770
H29: Ingresos excedentes¹
B31: Estado Analítico de Ingresos Por Fuente de Financiamiento | E31: Ingreso | J31: Diferencia
E32: Estimado | F32: Ampliaciones y Reducciones | G32: Modificado | H32: Devengado | I32: Recaudado
E33: (1) | F33: (2) | G33: (3= 1 + 2) | H33: (4) | I33: (5) | J33: (6 = 5 - 1 )
D35: INGRESOS PROPIOS | E35: 345700 | F35: =+F37+F38+F41 -> 2201372.9 | G35: =+G37+G38+G41 -> 2547072.9 | H35: =+H37+H38+H41 -> 1472989.9 | I35: =+I37+I38+I41 -> 1472989.9 | J35: =+J37+J38+J41 -> 1127289.9
D36: PRODUCTOS | E36: 341200 | F36: 43370.36 | G36: =+G37 -> 384570.36 | H36: =+H37 -> 307950.36 | I36: =+I37 -> 307950.36 | J36: =+J37 -> -33249.64
D37: PRODUCTOS DE TIPO CORRIENTE | E37: 341200 | F37: 43370.36 | G37: =+E37+F37 -> 384570.36 | H37: 307950.36 | I37: 307950.36 | J37: =+I37-E37 -> -33249.64
D38: APROVECHAMIENTOS | E38: 3000 | F38: =+F39+F40 -> 2151701.1 | G38: =+G39+G40 -> 2154701.1 | H38: =+H39+H40 -> 1157238 | I38: =+I39+I40 -> 1157238 | J38: =+I38-E38 -> 1154238
D39: APROVECHAMIENTOS TIPO CORRIENTE | E39: 3000 | F39: 58174 | G39: =+E39+F39 -> 61174 | H39: 61171 | I39: 61171 | J39: =+I39-E39 -> 58171
D40: APROVECHAMIENTOS NO COMPRENDIDOS EN | F40: 2093527.1 | G40: =+E40+F40 -> 2093527.1 | H40: 1096067 | I40: 1096067 | J40: =+I40-E40 -> 1096067
D41: ING. POR VENTAS DE BIENES Y SERV | E41: 1500 | F41: 6301.5 | G41: =+E41+F41 -> 7801.5 | H41: 7801.5 | I41: 7801.5 | J41: =+I41-E41 -> 6301.5
D42: ING. VTAS BIENES Y SERV. ORG.DESCENTR | E42: 1500 | F42: 6301.5 | G42: =+E42+F42 -> 7801.5 | H42: 7801.5 | I42: 7801.5 | J42: =+I42-E42 -> 6301.5
D44: RECURSOS FEDERALES | E44: 0 | F44: =+F45+F47 -> 20342156 | G44: =+G45+G47 -> 20342156 | H44: =+H45+H47 -> 12493088 | I44: =+I45+I47 -> 12493088 | J44: =+J45+J47 -> 12493088
D45: APROVECHAMIENTOS | E45: 0 | F45: =+F46 -> 3296424.4 | G45: =+G46 -> 3296424.4 | H45: =+H46 -> 1579822.4 | I45: =+I46 -> 1579822.4 | J45: =+J46 -> 1579822.4
D46: APROVECHAMIENTOS NO COMPRENDIDOS EN | E46: 0 | F46: 3296424.4 | G46: =+E46+F46 -> 3296424.4 | H46: 1579822.4 | I46: 1579822.4 | J46: =+I46-E46 -> 1579822.4
D47: PARTICIPACIONES Y APORTACIONES | E47: 0 | F47: =+F48 -> 17045732 | G47: =+G48 -> 17045732 | H47: =+H48 -> 10913266 | I47: =+I48 -> 10913266 | J47: =+J48 -> 10913266
...

Sheet CAdmon
B2: ESTADO ANALÍTICO DEL EJERCICIO DEL PRESUPUESTO DE EGRESOS
B3: CLASIFICACIÓN ADMINISTRATIVA
B4: Del 1 de Enero al 30 de Septiembre de 2017
C6: Ente Público: | D6: INSTITUTO TECNOLOGICO SUPERIOR DE SALVATIERRA
B8: Concepto | D8: Egresos | K8: Subejercicio
D9: Aprobado | E9: Ampliaciones/ (Reducciones) | F9: Modificado | G9: Comprometido | H9: Devengado | I9: Ejercido | J9: Pagado
D10: 1 | E10: 2 | F10: 3 = (1 + 2 ) | G10: 4 | H10: 5 | I10: 6 | J10: 7 | K10: 6 = ( 3 - 5 )
C13: Entidades Paraestatales | D13: 18577670 | E13: 28295462 | F13: =+D13+E13 -> 46873132 | G13: 28875704 | H13: 23456023 | I13: 23456023 | J13: 23456023 | K13: =+F13-H13 -> 23417108
D16: 0 | E16: 0 | F16: =+D16+E16 -> 0 | G16: 0 | H16: 0 | I16: 0 | J16: 0 | K16: =+F16-H16 -> 0
D17: 0 | E17: 0 | F17: =+D17+E17 -> 0 | G17: 0 | H17: 0 | I17: 0 | J17: 0 | K17: =+F17-H17 -> 0
D18: 0 | E18: 0 | F18: =+D18+E18 -> 0 | G18: 0 | H18: 0 | I18: 0 | J18: 0 | K18: =+F18-H18 -> 0
D19: 0 | E19: 0 | F19: =+D19+E19 -> 0 | G19: 0 | H19: 0 | I19: 0 | J19: 0 | K19: =+F19-H19 -> 0
D20: 0 | E20: 0 | F20: 0 | G20: 0 | H20: 0 | I20: 0 | J20: 0 | K20: =+F20-H20 -> 0
C22: Total del Gasto | D22: =SUM(D12:D20) -> 18577670 | E22: =SUM(E12:E20) -> 28295462 | F22: =SUM(F12:F20) -> 46873132 | G22: =SUM(G12:G20) -> 28875704 | H22: =SUM(H12:H20) -> 23456023 | I22: =SUM(I12:I20) -> 23456023 | J22: =SUM(J12:J20) -> 23456023 | K22: =SUM(K12:K20) -> 23417108
B24: Bajo protesta de decir verdad declaramos que los Estados Financieros y sus Notas son razonablemente correctos y responsabilidad del emisor
C28: KARLA ALEJANDRINA LANUZA HERNANDEZ | F28: RAMIRO CONTRERAS RODRIGUEZ
C29: DIRECTORA | F29: SUBDIRECTOR DE FINANZAS Y ADMINISTRACION

Sheet CTG
B1: ESTADO ANALÍTICO DEL EJERCICIO DEL PRESUPUESTO DE EGRESOS
B2: CLASIFICACIÓN ECONÓMICA (POR TIPO DE GASTO)
B3: Del 1 de Enero al 30 de Septiembre de 2017
C5: Ente Público: | D5: INSTITUTO TECNOLOGICO SUPERIOR DE SALVATIERRA
B7: Concepto | D7: Egresos | K7: Subejercicio
D8: Aprobado | E8: Ampliaciones/ (Reducciones) | F8: Modificado | G8: Comprometido | H8: Devengado | I8: Ejercido | J8: Pagado
D9: 1 | E9: 2 | F9: 3 = (1 + 2 ) | G9: 4 | H9: 5 | I9: 6 | J9: 7 | K9: 6 = ( 3 - 5 )
C11: Gasto Corriente | D11: 16798192 | E11: 20876521 | F11: =+D11+E11 -> 37674713 | G11: 20782771 | H11: 19702823 | I11: 19702823 | J11: 19702823 | K11: =F11-H11 -> 17971890
C12: Gasto de Capital | D12: 1165870 | E12: 7418941.2 | F12: =+D12+E12 -> 8584811.2 | G12: 8092933.7 | H12: 3753200.6 | I12: 3753200.6 | J12: 3753200.6 | K12: =F12-H12 -> 4831610.6
C13: Amortización de la Deuda y Disminución de Pasivos | D13: 613607.69 | E13: 0 | F13: =+D13+E13 -> 613607.69 | G13: 0 | H13: 0 | I13: 0 | J13: 0 | K13: =F13-H13 -> 613607.69
C14: FUENTES FINANCIERAS | D14: 613607.69 | E14: 0 | F14: =+D14+E14 -> 613607.69 | G14: 0 | H14: 0 | I14: 0 | J14: 0 | K14: =F14-H14 -> 613607.69
C15: Total del Gasto | D15: =+D11+D12+D13 -> 18577670 | E15: =+E11+E12+E13 -> 28295462 | F15: =+F11+F12+F13 -> 46873132 | G15: =+G11+G12+G13 -> 28875704 | H15: =+H11+H12+H13 -> 23456023 | I15: =+I11+I12+I13 -> 23456023 | J15: =+J11+J12+J13 -> 23456023 | K15: =+K11+K12+K13 -> 23417108
C17: Bajo protesta de decir verdad declaramos que los Estados Financieros y sus Notas son razonablemente correctos y responsabilidad del emisor
D18: =IF(D15=CAdmon!D22," ","ERROR") | E18: =IF(E15=CAdmon!E22," ","ERROR") | F18: =IF(F15=CAdmon!F22," ","ERROR") | H18: =IF(H15=CAdmon!H22," ","ERROR") | J18: =IF(J15=CAdmon!J22," ","ERROR") | K18: =IF(K15=CAdmon!K22," ","ERROR")
C20: KARLA ALEJANDRINA LANUZA HERNANDEZ | F20: RAMIRO CONTRERAS RODRIGUEZ
C21: DIRECTORA | F21: SUBDIRECTOR DE FINANZAS Y ADMINISTRACION

Sheet COG
B1: ESTADO ANALÍTICO DEL EJERCICIO DEL PRESUPUESTO DE EGRESOS
B2: CLASIFICACIÓN POR OBJETO DEL GASTO (CAPÍTULO Y CONCEPTO)
B3: Del 1 de Enero al 30 de Septiembre de 2017
C5: Ente Público: | D5: INSTITUTO TECNOLOGICO SUPERIOR DE SALVATIERRA
B7: Concepto | D7: Egresos | K7: Subejercicio
D8: Aprobado | E8: Ampliaciones/ (Reducciones) | F8: Modificado | G8: Comprometido | H8: Devengado | I8: Ejercido | J8: Pagado
D9: 1 | E9: 2 | F9: 3 = (1 + 2 ) | G9: 4 | H9: 5 | I9: 6 | J9: 7 | K9: 6 = ( 3 - 5 )
B10: Servicios Personales | D10: =SUM(D11:D16) -> 13806368 | E10: =SUM(E11:E16) -> 17359596 | F10: =+D10+E10 -> 31165964 | G10: =SUM(G11:G16) -> 16136211 | H10: =SUM(H11:H16) -> 16121775 | I10: =SUM(I11:I16) -> 16121775 | J10: =SUM(J11:J16) -> 16121775 | K10: =+F10-H10 -> 15044189
C11: Remuneraciones al personal de carácter permanente | D11: 9781615.9 | E11: 11583547 | F11: =+D11+E11 -> 21365163 | G11: 11647798 | H11: 11647798 | I11: 11647798 | J11: 11647798 | K11: =+F11-H11 -> 9717365.1
C12: Remuneraciones al personal de carácter transitorio | D12: 330000 | E12: 46450 | F12: =+D12+E12 -> 376450 | G12: 291606.01 | H12: 284006.01 | I12: 284006.01 | J12: 284006.01 | K12: =+F12-H12 -> 92443.99
C13: Remuneraciones adicionales y especiales | D13: 1522652 | E13: 1729308.1 | F13: =+D13+E13 -> 3251960.1 | G13: 648963.53 | H13: 648963.53 | I13: 648963.53 | J13: 648963.53 | K13: =+F13-H13 -> 2602996.6
C14: Seguridad Social | D14: 1539000 | E14: 2215172 | F14: =+D14+E14 -> 3754172 | G14: 2472228.2 | H14: 2472228.2 | I14: 2472228.2 | J14: 2472228.2 | K14: =+F14-H14 -> 1281943.8
C15: Otras prestaciones sociales y económicas | D15: 533100 | E15: 909429.34 | F15: =+D15+E15 -> 1442529.3 | G15: 880598.74 | H15: 873763.28 | I15: 873763.28 | J15: 873763.28 | K15: =+F15-H15 -> 568766.06
C16: Pago de estímulos a servidores públicos | D16: 100000 | E16: 875690 | F16: =+D16+E16 -> 975690 | G16: 195016.8 | H16: 195016.8 | I16: 195016.8 | J16: 195016.8 | K16: =+F16-H16 -> 780673.2
B17: Materiales y Suministros | D17: =SUM(D18:D24) -> 450516 | E17: =SUM(E18:E24) -> 603707.72 | F17: =+D17+E17 -> 1054223.7 | G17: =SUM(G18:G24) -> 735529.01 | H17: =SUM(H18:H24) -> 496805.38 | I17: =SUM(I18:I24) -> 496805.38 | J17: =SUM(J18:J24) -> 496805.38 | K17: =+F17-H17 -> 557418.34
C18: Materiales de administración, emisión de documentos y artículos oficiales | D18: 200250 | E18: 131255.67 | F18: =+D18+E18 -> 331505.67 | G18: 237489.89 | H18: 178558.75 | I18: 178558.75 | J18: 178558.75 | K18: =+F18-H18 -> 152946.92
C19: Alimentos y utensilios | D19: 11840 | E19: 20982.75 | F19: =+D19+E19 -> 32822.75 | G19: 22126.85 | H19: 22126.85 | I19: 22126.85 | J19: 22126.85 | K19: =+F19-H19 -> 10695.9
C20: Materiales y artículos de construcción y de reparación | D20: 21273 | E20: 112490.94 | F20: =+D20+E20 -> 133763.94 | G20: 81773.94 | H20: 45384.5 | I20: 45384.5 | J20: 45384.5 | K20: =+F20-H20 -> 88379.44
C21: Productos químicos, farmacéuticos y de laboratorio | D21: 25553 | E21: 74472.5 | F21: =+D21+E21 -> 100025.5 | G21: 98161.91 | H21: 40202.23 | I21: 40202.23 | J21: 40202.23 | K21: =+F21-H21 -> 59823.27
C22: Combustibles, lubricantes y aditivos | D22: 87000 | E22: 83019.57 | F22: =+D22+E22 -> 170019.57 | G22: 128096.65 | H22: 128096.65 | I22: 128096.65 | J22: 128096.65 | K22: =+F22-H22 -> 41922.92
C23: Vestuario, blancos, prendas de protección y artículos deportivos | D23: 79000 | E23: 36760 | F23: =+D23+E23 -> 115760 | G23: 67840.12 | H23: 22280.12 | I23: 22280.12 | J23: 22280.12 | K23: =+F23-H23 -> 93479.88
C24: Herramientas, refacciones y accesorios menores | D24: 25600 | E24: 144726.29 | G24: 100039.65 | H24: 60156.28 | I24: 60156.28 | J24: 60156.28
B25: Servicios Generales | D25: =SUM(D26:D34) -> 2441308.4 | E25: =SUM(E26:E34) -> 3100175.6 | F25: =+D25+E25 -> 5541483.9 | G25: =SUM(G26:G34) -> 3765034.2 | H25: =SUM(H26:H34) -> 2989425.2 | I25: =SUM(I26:I34) -> 2989425.2 | J25: =SUM(J26:J34) -> 2989425.2 | K25: =+F25-H25 -> 2552058.7
C26: Servicios básicos | D26: 436676.75 | E26: 459153.65 | F26: =+D26+E26 -> 895830.4 | G26: 626494.87 | H26: 624645.91 | I26: 624645.91 | J26: 624645.91 | K26: =+F26-H26 -> 271184.49
C27: Servicios de arrendamiento | D27: 98400 | E27: 306834.72 | F27: =+D27+E27 -> 405234.72 | G27: 383330.01 | H27: 183830.74 | I27: 183830.74 | J27: 183830.74 | K27: =+F27-H27 -> 221403.98
C28: Servicios profesionales, científicos, técnicos y otros servicios | D28: 485300 | E28: 214738.44 | F28: =+D28+E28 -> 700038.44 | G28: 510734.93 | H28: 510734.92 | I28: 510734.92 | J28: 510734.92 | K28: =+F28-H28 -> 189303.52
C29: Servicios financieros, bancarios y comerciales | D29: 16600 | E29: 41009.23 | F29: =+D29+E29 -> 57609.23 | G29: 57609.23 | H29: 57609.23 | I29: 57609.23 | J29: 57609.23 | K29: =+F29-H29 -> 0
C30: Servicios de instalación, reparación, mantenimiento y conservación | D30: 532290 | E30: 1475109.1 | F30: =+D30+E30 -> 2007399.1 | G30: 1075918.8 | H30: 833465.81 | I30: 833465.81 | J30: 833465.81 | K30: =+F30-H30 -> 1173933.3
C31: Servicios de comunicación social y publicidad | D31: 91500 | E31: 91600 | F31: =+D31+E31 -> 183100 | G31: 154263.18 | H31: 141263.18 | I31: 141263.18 | J31: 141263.18 | K31: =+F31-H31 -> 41836.82
C32: Servicios de traslado y viáticos | D32: 73258.5 | E32: 53997.21 | F32: =+D32+E32 -> 127255.71 | G32: 61256.66 | H32: 58243.76 | I32: 58243.76 | J32: 58243.76 | K32: =+F32-H32 -> 69011.95
C33: Servicios oficiales | D33: 209100 | E33: 45523.27 | F33: =+D33+E33 -> 254623.27 | G33: 203649.37 | H33: 93601.35 | I33: 93601.35 | J33: 93601.35 | K33: =+F33-H33 -> 161021.92
C34: Otros Servicios Generales | D34: 498183.11 | E34: 412209.95 | F34: =+D34+E34 -> 910393.06 | G34: 691777.06 | H34: 486030.34 | I34: 486030.34 | J34: 486030.34 | K34: =+F34-H34 -> 424362.72
B35: Transferencias, Asignaciones, Subsidios y Otras Ayudas | D35: =SUM(D36:D36) -> 100000 | E35: =SUM(E36:E36) -> 414200 | F35: =+D35+E35 -> 514200 | G35: =SUM(G36:G36) -> 145996.66 | H35: =SUM(H36:H36) -> 94816.66 | I35: =SUM(I36:I36) -> 94816.66 | J35: =SUM(J36:J36) -> 94816.66 | K35: =+F35-H35 -> 419383.34
C36: Ayudas sociales | D36: 100000 | E36: 414200 | F36: =+D36+E36 -> 514200 | G36: 145996.66 | H36: 94816.66 | I36: 94816.66 | J36: 94816.66 | K36: =+F36-H36 -> 419383.34
B37: Bienes Muebles, Inmuebles e Intangibles | D37: =SUM(D38:D41) -> 1165870 | E37: =SUM(E38:E41) -> 6390890.3 | F37: =SUM(F38:F41) -> 7556760.3 | G37: =SUM(G38:G41) -> 7217791.9 | H37: =SUM(H38:H41) -> 2974023 | I37: =SUM(I38:I41) -> 2974023 | J37: =SUM(J38:J41) -> 2974023 | K37: =SUM(K38:K41) -> 4582737.4
C38: Mobiliario y equipo de administración | D38: 315000 | E38: 2442210.6 | F38: =+D38+E38 -> 2757210.6 | G38: 2623931.1 | H38: 367453.91 | I38: 367453.91 | J38: 367453.91 | K38: =+F38-H38 -> 2389756.7
C39: Mobiliario y equipo educacional y recreativo | D39: 240000 | E39: 639673.99 | F39: =+D39+E39 -> 879673.99 | G39: 807808.48 | H39: 598101.28 | I39: 598101.28 | J39: 598101.28 | K39: =+F39-H39 -> 281572.71
C40: Equipo e instrumental medico y de laboratorio | D40: 0 | E40: 897840 | F40: =+D40+E40 -> 897840 | G40: 897840 | H40: 897840 | I40: 897840 | J40: 897840 | K40: =+F40-H40 -> 0
C41: Maquinaria, otros equipos y herramientas | D41: 610870 | E41: 2411165.7 | F41: =D41+E41 -> 3022035.7 | G41: 2888212.3 | H41: 1110627.8 | I41: 1110627.8 | J41: 1110627.8 | K41: =+F41-H41 -> 1911407.9
B42: Inversion Publica | D42: =+D43 -> 0 | E42: =+E43 -> 1028050.9 | F42: =+F43 -> 1028050.9 | G42: =+G43 -> 875141.74 | H42: =+H43 -> 779177.7 | I42: =+I43 -> 779177.7 | J42: =+J43 -> 779177.7 | K42: =+K43 -> 248873.22
...

Sheet CFG
B1: ESTADO ANALÍTICO DEL EJERCICIO DEL PRESUPUESTO DE EGRESOS
B2: CLASIFICACIÓN FUNCIONAL (FINALIDAD Y FUNCIÓN)
B3: Del 01 de Enero al 30 de Septiembre de 2017
C5: Ente Público: | D5: INSTITUTO TECNOLOGICO SUPERIOR DE SALVATIERRA
B7: Concepto | D7: Egresos | K7: Subejercicio
D8: Aprobado | E8: Ampliaciones/ (Reducciones) | F8: Modificado | G8: Comprometido | H8: Devengado | I8: Ejercido | J8: Pagado
D9: 1 | E9: 2 | F9: 3 = (1 + 2 ) | G9: 4 | H9: 5 | I9: 6 | J9: 7 | K9: 6 = ( 3 - 5 )
B11: Gobierno | D11: =SUM(D12:D20) -> 0 | E11: =SUM(E12:E20) -> 0 | F11: =SUM(F12:F20) -> 0 | G11: =SUM(G12:G20) -> 0 | H11: =SUM(H12:H20) -> 0 | I11: =SUM(I12:I20) -> 0 | J11: =SUM(J12:J20) -> 0 | K11: =SUM(K12:K20) -> 0
C12: Legislación | D12: 0 | E12: 0 | F12: =+D12+E12 -> 0 | G12: 0 | H12: 0 | I12: 0 | J12: 0 | K12: =+F12-H12 -> 0
C13: Justicia | F13: =+D13+E13 -> 0 | K13: =+F13-H13 -> 0
C14: Coordinación de la Política de Gobierno | F14: =+D14+E14 -> 0 | K14: =+F14-H14 -> 0
C15: Relaciones Exteriores | F15: =+D15+E15 -> 0 | K15: =+F15-H15 -> 0
C16: Asuntos Financieros y Hacendarios | F16: =+D16+E16 -> 0 | K16: =+F16-H16 -> 0
C17: Seguridad Nacional | F17: =+D17+E17 -> 0 | K17: =+F17-H17 -> 0
C18: Asuntos de Orden Público y de Seguridad Interior | F18: =+D18+E18 -> 0 | K18: =+F18-H18 -> 0
C19: Otros Servicios Generales | F19: =+D19+E19 -> 0 | K19: =+F19-H19 -> 0
F20: =+D20+E20 -> 0
B21: Desarrollo Social | D21: =SUM(D22:D28) -> 18577670 | E21: =SUM(E22:E28) -> 28295462 | F21: =+D21+E21 -> 46873132 | G21: 1670605.9 | H21: =SUM(H22:H28) -> 23456023 | I21: 1670605.9 | J21: =SUM(J22:J28) -> 23456023 | K21: =+F21-H21 -> 23417108
C22: Protección Ambiental | F22: =+D22+E22 -> 0 | K22: =+F22-H22 -> 0
C23: Vivienda y Servicios a la Comunidad | F23: =+D23+E23 -> 0 | K23: =+F23-H23 -> 0
C24: Salud | F24: =+D24+E24 -> 0 | K24: =+F24-H24 -> 0
C25: Recreación, Cultura y Otras Manifestaciones Sociales | F25: =+D25+E25 -> 0 | K25: =+F25-H25 -> 0
C26: Educación | D26: 18577670 | E26: 28295462 | F26: =+D26+E26 -> 46873132 | G26: 28875704 | H26: 23456023 | I26: 23456023 | J26: 23456023 | K26: =+F26-H26 -> 23417108
C27: Protección Social | F27: =+D27+E27 -> 0 | K27: =+F27-H27 -> 0
C28: Otros Asuntos Sociales | F28: =+D28+E28 -> 0 | K28: =+F28-H28 -> 0
F29: =+D29+E29 -> 0
B30: Desarrollo Económico | D30: =SUM(D31:D39) -> 0 | E30: =SUM(E31:E39) -> 0 | F30: =+D30+E30 -> 0 | H30: =SUM(H31:H39) -> 0 | J30: =SUM(J31:J39) -> 0 | K30: =+F30-H30-J30 -> 0
C31: Asuntos Económicos, Comerciales y Laborales en General | F31: =+D31+E31 -> 0 | K31: =+F31-H31 -> 0
C32: Agropecuaria, Silvicultura, Pesca y Caza | E32: =660673.36-660673.36 -> 0 | F32: =+D32+E32 -> 0 | K32: =+F32-H32-J32 -> 0
C33: Combustibles y Energía | F33: =+D33+E33 -> 0 | K33: =+F33-H33 -> 0
C34: Minería, Manufacturas y Construcción | F34: =+D34+E34 -> 0 | K34: =+F34-H34 -> 0
C35: Transporte | F35: =+D35+E35 -> 0 | K35: =+F35-H35 -> 0
C36: Comunicaciones | F36: =+D36+E36 -> 0 | K36: =+F36-H36 -> 0
C37: Turismo | F37: =+D37+E37 -> 0 | K37: =+F37-H37 -> 0
C38: Ciencia, Tecnología e Innovación | F38: =+D38+E38 -> 0 | K38: =+F38-H38 -> 0
C39: Otras Industrias y Otros Asuntos Económicos | F39: =+D39+E39 -> 0 | K39: =+F39-H39 -> 0
B41: Otras no Clasificadas en Funciones Anteriores | D41: =SUM(D42:D45) -> 0 | E41: =SUM(E42:E45) -> 0 | F41: =+D41+E41 -> 0 | H41: =SUM(H42:H45) -> 0 | J41: =SUM(J42:J45) -> 0 | K41: =+F41-H41 -> 0
C42: Transacciones de la Deuda Publica / Costo Financiero de la Deuda | F42: =+D42+E42 -> 0 | K42: =+F42-H42 -> 0
C43: Transferencias, Participaciones y Aportaciones entre Diferentes Niveles y Ordenes de Gobierno | F43: =+D43+E43 -> 0 | K43: =+F43-H43 -> 0
C44: Saneamiento del Sistema Financiero | F44: =+D44+E44 -> 0 | K44: =+F44-H44 -> 0
...

Sheet EN
B1: ESTADO ANALÍTICO DEL EJERCICIO DEL PRESUPUESTO DE EGRESOS
B2: ENDEUDAMIENTO NETO
B3: Del 01 de Enero al 30 de Septiembre de 2017
D5: Ente Público: | E5: INSTITUTO TECNOLOGICO SUPERIOR DE SALVATIERRA
B7: Identificación de Crédito o Instrumento | D7: Contratación / Colocación | F7: Amortización | H7: Endeudamiento Neto
D8: A | F8: B | H8: C = A - B
B9: Créditos Bancarios
H10: =+D10-F10 -> 0
H11: =+D11-F11 -> 0
H12: =+D12-F12 -> 0
H13: =+D13-F13 -> 0
H14: =+D14-F14 -> 0
H15: =+D15-F15 -> 0
H16: =+D16-F16 -> 0
H17: =+D17-F17 -> 0
H18: =+D18-F18 -> 0
B19: Total Créditos Bancarios | D19: =SUM(D10:E18) -> 0 | F19: =SUM(F10:G18) -> 0 | H19: =+D19-F19 -> 0
B21: Otros Instrumentos de Deuda
H23: =+D23-F23 -> 0
H24: =+D24-F24 -> 0
H25: =+D25-F25 -> 0
H26: =+D26-F26 -> 0
H27: =+D27-F27 -> 0
H28: =+D28-F28 -> 0
H29: =+D29-F29 -> 0
H30: =+D30-F30 -> 0
B31: Total Otros Instrumentos de Deuda | D31: =SUM(D22:E30) -> 0 | F31: =SUM(F22:G30) -> 0 | H31: =+D31-F31 -> 0
B33: TOTAL | D33: =+D19+D31 -> 0 | F33: =+F19+F31 -> 0 | H33: =+H19+H31 -> 0
B35: Bajo protesta de decir verdad declaramos que los Estados Financieros y sus Notas son razonablemente correctos y responsabilidad del emisor
B39: KARLA ALEJANDRINA LANUZA HERNANDEZ | F39: RAMIRO CONTRERAS RODRIGUEZ
B40: DIRECTORA | F40: SUBDIRECTOR DE FINANZAS Y ADMINISTRACIÓN

Sheet ID
A1: ESTADO ANALÍTICO DEL EJERCICIO DEL PRESUPUESTO DE EGRESOS
A2: INTERESES DE LA DEUDA
A3: Del 01 Enero al 30 de Septiembre del 2017
A5: Ente Público: | B5: INSTITUTO TECNOLOGICO SUPERIOR DE SALVATIERRA
A7: Identificación de Crédito o Instrumento | C7: Devengado | D7: Pagado
A8: Créditos Bancarios
A19: Total de Intereses de Créditos Bancarios | C19: =SUM(C9:C18) -> 0 | D19: =SUM(D9:D18) -> 0
A21: Otros Instrumentos de Deuda
A34: Total de Intereses de Otros Instrumentos de Deuda | C34: =SUM(C22:C33) -> 0 | D34: =SUM(D22:D33) -> 0
A36: TOTAL | C36: =+C19+C34 -> 0 | D36: =+D19+D34 -> 0
A38: Bajo protesta de decir verdad declaramos que los Estados Financieros y sus Notas son razonablemente correctos y responsabilidad del emisor
A42: KARLA ALEJANDRINA LANUZA HERNANDEZ | C42: RAMIRO CONTRERAS RODRIGUEZ
A43: DIRECTORA | C43: SUBDIRECTOR DE FINANZAS Y ADMINISTRACIÓN

Sheet IPF
A1: ESTADO ANALÍTICO DEL EJERCICIO DEL PRESUPUESTO DE EGRESOS
A2: INDICADORES DE POSTURA FISCAL
A3: Del 01 de Enero al 30 de Septiembre de 2017
B6: INSTITUTO TECNOLOGICO SUPERIOR DE SALVATIERRA
A9: Concepto | C9: Estimado | D9: Devengado | E9: Pagado 3
B11: I. Ingresos Presupuestarios (I=1+2) | C11: =+C12+C13 -> 18577670 | D11: =+D12+D13 -> 32468440 | E11: =+E12+E13 -> 32468440
A12: 1. Ingresos del Gobierno de la Entidad Federativa 1 | C12: =+[1]EAI!E33 -> 0 | D12: =+[1]EAI!H33 -> 0 | E12: =+[1]EAI!I33 -> 0
A13: 2. Ingresos del Sector Paraestatal 1 | C13: 18577670 | D13: 32468440 | E13: 32468440
B14: II. Egresos Presupuestarios (II=3+4) | C14: =+C15+C16 -> 18577670 | D14: =+D15+D16 -> 23456023 | E14: =+E15+E16 -> 23456023
A15: 3. Egresos del Gobierno de la Entidad Federativa 2
A16: 4. Egresos del Sector Paraestatal 2 | C16: 18577670 | D16: 23456023 | E16: 23456023
B17: III. Balance Presupuestario (Superávit o Déficit) (III = I - II) | C17: =+C11-C14 -> 0 | D17: =+D11-D14 -> 9012416.5 | E17: =+E11-E14 -> 9012416.5
A19: Concepto | C19: Estimado | D19: Devengado | E19: Pagado 3
A21: III. Balance presupuestario (Superávit o Déficit) | C21: =+C17 -> 0 | D21: =+D17 -> 9012416.5 | E21: =+E17 -> 9012416.5
A23: IV. Intereses, Comisiones y Gastos de la Deuda
B25: V. Balance Primario ( Superávit o Déficit) (V= III - IV) | C25: =+C21-C23 -> 0 | D25: =+D21-D23 -> 9012416.5 | E25: =+E21-E23 -> 9012416.5
A27: Concepto | C27: Estimado | D27: Devengado | E27: Pagado 3
A29: A. Financiamiento | C29: =+[1]EAI!E52 -> 0 | D29: =+[1]EAI!H51 -> 0 | E29: =+[1]EAI!I54 -> 0
A31: B. Amortización de la deuda
B33: C. Endeudamiento ó desendeudamiento (C = A - B) | C33: =+C29-C31 -> 0 | D33: =+D29-D31 -> 0 | E33: =+E29-E31 -> 0
A35: Bajo protesta de decir verdad declaramos que los Estados Financieros y sus Notas son razonablemente correctos y responsabilidad del emisor
B36: 1 Los Ingresos que se presentan son los ingresos presupuestario totales sin incluir los ingresos por financiamientos. Los Ingresos del Gobierno de la Entidad Federativa corresponden a los del Poder Ejecutivo, Legislativo Judicial y Autónomos
B37: 2 Los egresos que se presentan son los egresos presupuestarios totales sin incluir los egresos por amortización. Los egresos del Gobierno de la Entidad Federativa corresponden a los del Poder Ejecutivo, Legislativo, Judicial y Órganos Autónomos
B38: 3 Para Ingresos se reportan los ingresos recaudados; para egresos se reportan los egresos pagados
B42: KARLA ALEJANDRINA LANUZA HERNANDEZ | C42: RAMIRO CONTRERAS RODRIGUEZ
B43: DIRECTORA | C43: SUBDIRECTOR DE FINANZAS Y ADMINISTRACION

Sheet CProg
B2: GASTO POR CATEGORIA PROGRAMÁTICA
B3: Del 1 de Enero al 30 de Septiembre de 2017
D5: Ente Público: | E5: INSTITUTO TECNOLOGICO SUPERIOR DE SALVATIERRA
B7: Concepto | E7: Egresos | L7: Subejercicio
E8: Aprobado | F8: Ampliaciones/ (Reducciones) | G8: Modificado | H8: Comprometido | I8: Devengado | J8: Ejercido | K8: Pagado
E9: 1 | F9: 2 | G9: 3 = (1 + 2 ) | H9: 4 | I9: 5 | J9: 6 | K9: 7 | L9: 6 = ( 3 - 5 )
B10: Programas
C11: Subsidios: Sector Social y Privado o Entidades Federativas y Municipios | E11: =SUM(E12:E13) -> 0 | F11: =SUM(F12:F13) -> 0 | G11: =SUM(G12:G13) -> 0 | H11: =SUM(H12:H13) -> 0 | I11: =SUM(I12:I13) -> 0 | J11: =SUM(J12:J13) -> 0 | K11: =SUM(K12:K13) -> 0 | L11: =SUM(L12:L13) -> 0
D12: Sujetos a Reglas de Operación | E12: 0 | F12: 0 | G12: =+E12+F12 -> 0 | H12: 0 | I12: 0 | J12: 0 | K12: 0 | L12: =+G12-I12 -> 0
D13: Otros Subsidios | L13: =+G13-I13 -> 0
C14: Desempeño de las Funciones | E14: =SUM(E15:E22) -> 17388034 | F14: =SUM(F15:F22) -> 26401959 | G14: =+E14+F14 -> 43789993 | H14: =SUM(H15:H22) -> 0 | I14: =SUM(I15:I22) -> 22538800 | J14: =SUM(J15:J22) -> 22538800 | K14: =SUM(K15:K22) -> 22538800 | L14: =+G14-I14 -> 21251193
D15: Prestación de Servicios Públicos | E15: 12189234 | F15: 20489277 | G15: =+E15+F15 -> 32678510 | I15: 17693634 | J15: 17693634 | K15: 17693634 | L15: =G15-I15 -> 14984876
D16: Provisión de Bienes Públicos | F16: 0 | G16: =+E16+F16 -> 0 | I16: 0 | J16: 0 | K16: 0 | L16: =G16-I16 -> 0
D17: Planeación, seguimiento y evaluación de políticas públicas | E17: 5198800.2 | F17: 5912682.6 | G17: =+E17+F17 -> 11111483 | I17: 4845165.7 | J17: 4845165.7 | K17: 4845165.7 | L17: =G17-I17 -> 6266317.1
D18: Promoción y fomento | L18: =+G18-I18 -> 0
D19: Regulación y supervisión | L19: =+G19-I19 -> 0
D20: Funciones de las Fuerzas Armadas (Únicamente Gobierno Federal) | L20: =+G20-I20 -> 0
D21: Específicos | L21: =+G21-I21 -> 0
D22: Proyectos de Inversión | L22: =+G22-I22 -> 0
C23: Administrativos y de Apoyo | E23: =SUM(E24:E26) -> 1189636.1 | F23: =SUM(F24:F26) -> 1893502 | G23: =+E23+F23 -> 3083138.1 | H23: =SUM(H24:H26) -> 1037474 | I23: =SUM(I24:I26) -> 917223 | J23: =SUM(J24:J26) -> 917223 | K23: =SUM(K24:K26) -> 917223 | L23: =+G23-I23 -> 2165915.1
